BEGIN:VCALENDAR
VERSION:2.0
PRODID:-//DIGITAL FACTORY//EVENTS MAKER V1.6.14//EN
CALSCALE:GREGORIAN
BEGIN:VEVENT
DTEND:20190301T040000Z
UID:5c77fae055aba
DTSTAMP:20190228T151440Z
LOCATION:Western Link Church 93 Crittenden Road, Findon, South Australia, 5023, AU
DESCRIPTION:
URL;VALUE=URI:http://www.anglicanparishkpme.org.au/events/events/event/world-day-of-prayer/
SUMMARY:World Day of Prayer
DTSTART:20190301T030000Z
END:VEVENT
END:VCALENDAR
